Workbook
Name alias: [1]AlíasIndicador!$A$2:$B$9
Name unidad: #REF!
Name unidad: #REF!
Name unidad: #REF!
Name unidad: #REF!
Name unidad: #REF!

Sheet catalog
A1: catalog_identifier | B1: catalog_title | C1: catalog_description | D1: catalog_publisher_name | E1: catalog_publisher_mbox | F1: catalog_issued | G1: catalog_modified | H1: catalog_language | I1: catalog_superThemeTaxonomy | J1: catalog_license | K1: catalog_homepage | L1: catalog_rights | M1: catalog_spatial
A2: ssprys | B2: Datos Económicos Sectoriales y Provinciales | C2: Catálogo de datos abiertos de la Subsecretaría de Programación Regional y Sectorial. | D2: Ministerio de Economía. Secretaría de Política Económica. Subsecretaría de Programación Regional y Sectorial. | E2: ssprys@mecon.gov.ar | F2: 43003 | G2: 46279 | H2: SPA | I2: http://datos.gob.ar/superThemeTaxonomy.json | J2: Creative Commons Attribution 4.0 | M2: ARG

Sheet dataset
A1: dataset_identifier | B1: dataset_title | C1: dataset_description | D1: dataset_publisher_name | E1: dataset_publisher_mbox | F1: dataset_contactPoint_fn | G1: dataset_contactPoint_hasEmail | H1: dataset_superTheme | I1: dataset_theme | J1: dataset_keyword | K1: dataset_accrualPeriodicity | L1: dataset_issued | M1: dataset_modified | N1: dataset_language | O1: dataset_spatial | P1: dataset_temporal | Q1: dataset_landingPage | R1: dataset_license | S1: dataset_source | T1: dataset_accessLevel
A2: 01 | B2: Indicadores Sectoriales y Provinciales | C2: Indicadores Sectoriales y Provinciales | D2: Ministerio de Economía. Subsecretaría de Programación Regional y Sectorial. | E2: ssprys@mecon.gov.ar | F2: Ministerio de Economía. Secretaría de Política Económica. Subsecretaría de Programación Regional y Sectorial. | G2: ssprys@mecon.gov.ar | H2: ECON | I2: produccion_actividad, mercado_laboral, comercio_exterior, precios, sociodemografico, financiamiento, fiscal, agentes | J2: ovinos, mineria, azucar, automotriz, aviar, maquinaria agricola, fruta de carozo, porcinos, petroquimica, software, vitivinicultura, telecomunicaciones, industrias culturales, yerba mate, investigacion y desarrollo, industria farmaceutica, lacteos, manzana, pera, consturccion, pesca, algodon, textil, oleaginosas, te, comercio interno, tabaco, arroz, olivos, carne vacuna, trigo, limon, apicola, maiz, provincias | K2: R/P3M | L2: 2019-10-02 | M2: 2026-09-14 | N2: SPA | O2: ARG | P2: 1990-12-31/2027-12-31 | Q2: https://www.argentina.gob.ar/economia/politicaeconomica/regionalysectorial | S2: Ministerio de Hacienda. Secretaría de Política Económica. Subsecretaría de Programación Microeconómica. Dirección Nacional de Planificación Regional. | T2: ABIERTO

Sheet distribution
A1: dataset_identifier | B1: dataset_title | C1: distribution_identifier | D1: distribution_title | E1: distribution_description | F1: distribution_downloadURL | G1: distribution_format | H1: distribution_accessURL | I1: distribution_mediaType | J1: distribution_license | K1: distribution_byteSize | L1: distribution_issued | M1: distribution_modified | N1: distribution_rights
A2: 01 | B2: =+VLOOKUP(A2,dataset!$A$1:$B$2,2,FALSE) -> Indicadores Sectoriales y Provinciales | C2: 01.1 | D2: Indicadores de Algodonera - textil en valores anuales, trimestrales y mensuales | E2: Indicadores de Algodonera - textil en valores anuales, trimestrales y mensuales | F2: https://www.economia.gob.ar/catalogo-sspmi/nuevo_dataset/algodonera-textil.csv | G2: CSV | H2: https://www.argentina.gob.ar/economia/politicaeconomica/regionalysectorial | L2: =+VLOOKUP(A2,dataset!A$2:M$12,12,FALSE) -> 2019-10-02 | M2: =+VLOOKUP(A2,dataset!A$2:N$12,13,FALSE) -> 2026-09-14
A3: 01 | B3: =+VLOOKUP(A3,dataset!$A$1:$B$2,2,FALSE) -> Indicadores Sectoriales y Provinciales | C3: 01.2 | D3: Indicadores de Apícola en valores anuales, trimestrales y mensuales | E3: Indicadores de Apícola en valores anuales, trimestrales y mensuales | F3: https://www.economia.gob.ar/catalogo-sspmi/nuevo_dataset/apicola.csv | G3: CSV | H3: https://www.argentina.gob.ar/economia/politicaeconomica/regionalysectorial | L3: =+VLOOKUP(A3,dataset!A$2:M$12,12,FALSE) -> 2019-10-02 | M3: =+VLOOKUP(A3,dataset!A$2:N$12,13,FALSE) -> 2026-09-14
A4: 01 | B4: =+VLOOKUP(A4,dataset!$A$1:$B$2,2,FALSE) -> Indicadores Sectoriales y Provinciales | C4: 01.3 | D4: Indicadores de Arroz en valores anuales, trimestrales y mensuales | E4: Indicadores de Arroz en valores anuales, trimestrales y mensuales | F4: https://www.economia.gob.ar/catalogo-sspmi/nuevo_dataset/arroz.csv | G4: CSV | H4: https://www.argentina.gob.ar/economia/politicaeconomica/regionalysectorial | L4: =+VLOOKUP(A4,dataset!A$2:M$12,12,FALSE) -> 2019-10-02 | M4: =+VLOOKUP(A4,dataset!A$2:N$12,13,FALSE) -> 2026-09-14
A5: 01 | B5: =+VLOOKUP(A5,dataset!$A$1:$B$2,2,FALSE) -> Indicadores Sectoriales y Provinciales | C5: 01.4 | D5: Indicadores de Automotriz y Autopartista en valores anuales, trimestrales y mensuales | E5: Indicadores de Automotriz y Autopartista en valores anuales, trimestrales y mensuales | F5: https://www.economia.gob.ar/catalogo-sspmi/nuevo_dataset/automotriz-y-autopartista.csv | G5: CSV | H5: https://www.argentina.gob.ar/economia/politicaeconomica/regionalysectorial | L5: =+VLOOKUP(A5,dataset!A$2:M$12,12,FALSE) -> 2019-10-02 | M5: =+VLOOKUP(A5,dataset!A$2:N$12,13,FALSE) -> 2026-09-14
A6: 01 | B6: =+VLOOKUP(A6,dataset!$A$1:$B$2,2,FALSE) -> Indicadores Sectoriales y Provinciales | C6: 01.5 | D6: Indicadores de Azúcar en valores anuales, trimestrales y mensuales | E6: Indicadores de Azúcar en valores anuales, trimestrales y mensuales | F6: https://www.economia.gob.ar/catalogo-sspmi/nuevo_dataset/azucar.csv | G6: CSV | H6: https://www.argentina.gob.ar/economia/politicaeconomica/regionalysectorial | L6: =+VLOOKUP(A6,dataset!A$2:M$12,12,FALSE) -> 2019-10-02 | M6: =+VLOOKUP(A6,dataset!A$2:N$12,13,FALSE) -> 2026-09-14
A7: 01 | B7: =+VLOOKUP(A7,dataset!$A$1:$B$2,2,FALSE) -> Indicadores Sectoriales y Provinciales | C7: 01.6 | D7: Indicadores de Cárnica - Aviar en valores anuales, trimestrales y mensuales | E7: Indicadores de Cárnica - Aviar en valores anuales, trimestrales y mensuales | F7: https://www.economia.gob.ar/catalogo-sspmi/nuevo_dataset/carnica-aviar.csv | G7: CSV | H7: https://www.argentina.gob.ar/economia/politicaeconomica/regionalysectorial | L7: =+VLOOKUP(A7,dataset!A$2:M$12,12,FALSE) -> 2019-10-02 | M7: =+VLOOKUP(A7,dataset!A$2:N$12,13,FALSE) -> 2026-09-14
A8: 01 | B8: =+VLOOKUP(A8,dataset!$A$1:$B$2,2,FALSE) -> Indicadores Sectoriales y Provinciales | C8: 01.7 | D8: Indicadores de Cárnica - Porcina en valores anuales, trimestrales y mensuales | E8: Indicadores de Cárnica - Porcina en valores anuales, trimestrales y mensuales | F8: https://www.economia.gob.ar/catalogo-sspmi/nuevo_dataset/carnica-porcina.csv | G8: CSV | H8: https://www.argentina.gob.ar/economia/politicaeconomica/regionalysectorial | L8: =+VLOOKUP(A8,dataset!A$2:M$12,12,FALSE) -> 2019-10-02 | M8: =+VLOOKUP(A8,dataset!A$2:N$12,13,FALSE) -> 2026-09-14
A9: 01 | B9: =+VLOOKUP(A9,dataset!$A$1:$B$2,2,FALSE) -> Indicadores Sectoriales y Provinciales | C9: 01.8 | D9: Indicadores de Cárnica - Vacuna en valores anuales, trimestrales y mensuales | E9: Indicadores de Cárnica - Vacuna en valores anuales, trimestrales y mensuales | F9: https://www.economia.gob.ar/catalogo-sspmi/nuevo_dataset/carnica-vacuna.csv | G9: CSV | H9: https://www.argentina.gob.ar/economia/politicaeconomica/regionalysectorial | L9: =+VLOOKUP(A9,dataset!A$2:M$12,12,FALSE) -> 2019-10-02 | M9: =+VLOOKUP(A9,dataset!A$2:N$12,13,FALSE) -> 2026-09-14
A10: 01 | B10: =+VLOOKUP(A10,dataset!$A$1:$B$2,2,FALSE) -> Indicadores Sectoriales y Provinciales | C10: 01.9 | D10: Indicadores de Comercio interno en valores anuales, trimestrales y mensuales | E10: Indicadores de Comercio interno en valores anuales, trimestrales y mensuales | F10: https://www.economia.gob.ar/catalogo-sspmi/nuevo_dataset/comercio-interno.csv | G10: CSV | H10: https://www.argentina.gob.ar/economia/politicaeconomica/regionalysectorial | L10: =+VLOOKUP(A10,dataset!A$2:M$12,12,FALSE) -> 2019-10-02 | M10: =+VLOOKUP(A10,dataset!A$2:N$12,13,FALSE) -> 2026-09-14
A11: 01 | B11: =+VLOOKUP(A11,dataset!$A$1:$B$2,2,FALSE) -> Indicadores Sectoriales y Provinciales | C11: 01.10 | D11: Indicadores de Construcción en valores anuales, trimestrales y mensuales | E11: Indicadores de Construcción en valores anuales, trimestrales y mensuales | F11: https://www.economia.gob.ar/catalogo-sspmi/nuevo_dataset/construccion.csv | G11: CSV | H11: https://www.argentina.gob.ar/economia/politicaeconomica/regionalysectorial | L11: =+VLOOKUP(A11,dataset!A$2:M$12,12,FALSE) -> 2019-10-02 | M11: =+VLOOKUP(A11,dataset!A$2:N$12,13,FALSE) -> 2026-09-14
A12: 01 | B12: =+VLOOKUP(A12,dataset!$A$1:$B$2,2,FALSE) -> Indicadores Sectoriales y Provinciales | C12: 01.11 | D12: Indicadores de Energías alternativas en valores anuales, trimestrales y mensuales | E12: Indicadores de Energías alternativas en valores anuales, trimestrales y mensuales | F12: https://www.economia.gob.ar/catalogo-sspmi/nuevo_dataset/energias-alternativas.csv | G12: CSV | H12: https://www.argentina.gob.ar/economia/politicaeconomica/regionalysectorial | L12: =+VLOOKUP(A12,dataset!A$2:M$12,12,FALSE) -> 2019-10-02 | M12: =+VLOOKUP(A12,dataset!A$2:N$12,13,FALSE) -> 2026-09-14
A13: 01 | B13: =+VLOOKUP(A13,dataset!$A$1:$B$2,2,FALSE) -> Indicadores Sectoriales y Provinciales | C13: 01.12 | D13: Indicadores de Forestal, papel y muebles en valores anuales, trimestrales y mensuales | E13: Indicadores de Forestal, papel y muebles en valores anuales, trimestrales y mensuales | F13: https://www.economia.gob.ar/catalogo-sspmi/nuevo_dataset/forestal-papel-y-muebles.csv | G13: CSV | H13: https://www.argentina.gob.ar/economia/politicaeconomica/regionalysectorial | L13: =+VLOOKUP(A13,dataset!A$2:M$12,12,FALSE) -> 2019-10-02 | M13: =+VLOOKUP(A13,dataset!A$2:N$12,13,FALSE) -> 2026-09-14
... A43: 01 | B43: =+VLOOKUP(A43,dataset!$A$1:$B$2,2,FALSE) -> Indicadores Sectoriales y Provinciales | C43: 01.42 | D43: Valores de indicadores sectoriales y provinciales | E43: Valores de indicadores sectoriales y provinciales | F43: https://www.economia.gob.ar/catalogo-sspmi/nuevo_dataset/valores.csv | G43: CSV | H43: https://www.argentina.gob.ar/economia/politicaeconomica/regionalysectorial | L43: =+VLOOKUP(A43,dataset!A$2:M$12,12,FALSE) -> 2019-10-02 | M43: =+VLOOKUP(A43,dataset!A$2:N$12,13,FALSE) -> 2026-09-14

Sheet field
A1: dataset_identifier | B1: dataset_title | C1: distribution_identifier | D1: distribution_title | E1: field_title | F1: field_type | G1: field_description | H1: field_units

Sheet theme
A1: theme_id | B1: theme_label | C1: theme_description
A2: produccion_actividad | B2: Producción y nivel de actividad | C2: Datos sobre produción y nivel de actividad sectorial
A3: mercado_laboral | B3: Empleo | C3: Datos sobre empleo sectorial
A4: comercio_exterior | B4: Comercio exterior | C4: Datos sobre intermcabio comercial internacional a nivel sectorial
A5: precios | B5: Precios de los principales productos/servicios del sector | C5: Datos sobre precios de los principales productos/servicios del sector
A6: sociodemografico | B6: Indicadores sociodemográficos | C6: Datos sobre sociales y demográficos
A7: financiamiento | B7: Acceso al financiamiento | C7: Datos sobre financiamiento
A8: fiscal | B8: Situación fiscal | C8: Datos sobre la situación fiscal provincial
A9: agentes | B9: Agentes | C9: Datos sobre actores involucrados en la estructura productiva

Sheet unit
A1: unit_identifier | B1: description | C1: base | D1: nominality | E1: factor | F1: currency
A2: 1 | B2: Millones de pesos a precios de 1993 | C2: 1993 | D2: constante | E2: 1000000 | F2: ARS
A3: 2 | B3: Millones de pesos a precios de 2004 | C3: 2004 | D3: constante | E3: 1000000 | F3: ARS
A4: 3 | B4: Millones de pesos | D4: corriente | E4: 1000000 | F4: ARS
A5: 4 | B5: Cantidad de pasajeros | E5: 1
A6: 5 | B6: Hectáreas | E6: 1
A7: 6 | B7: Miles de cabezas | E7: 1000
A8: 7 | B8: Miles de Hectolitros | E8: 1000
A9: 8 | B9: Miles de Litros | E9: 1000
A10: 9 | B10: Miles de metros cuadrados | E10: 1000
A11: 10 | B11: Miles de metros cúbicos | E11: 1000
A12: 11 | B12: Miles de piezas | E12: 1000
A13: 12 | B13: Miles de toneladas | E13: 1000
A14: 13 | B14: Miles de unidades | E14: 1000
A15: 14 | B15: Millones de aves | E15: 1000000
A16: 15 | B16: Millones de Litros | E16: 1000000
... A18: 17 | B18: Número índice | E18: 100
A19: 18 | B19: Porcentaje
A20: 19 | B20: Toneladas | E20: 1
A21: 20 | B21: Unidades | E21: 1
A22: 21 | B22: Unidades de automóviles | E22: 1
A23: 22 | B23: Millones de pesos corrientes | D23: corriente | E23: 1000000 | F23: ARS
A24: 23 | B24: TCN ($/USD)
A25: 24 | B25: USD | D25: corriente | E25: 1 | F25: USD
A26: 25 | B26: Millones de USD | D26: corriente | E26: 1000000 | F26: USD
A27: 26 | B27: Variación Porcentual
A28: 27 | B28: Cabezas | E28: 1
A29: 28 | B29: Paquetes de 20 unidades | E29: 1
A30: 29 | B30: En miles de personas | D30: 1000
A31: 30 | B31: En pesos corrientes | D31: corriente
A32: 31 | B32: Porcentaje de hogares y de población
A33: 32 | B33: Porcentaje de hogares
A34: 33 | B34: Porcentaje de población
A35: 34 | B35: Porcentaje de hogares
A36: 35 | B36: Porcentaje de población
A37: 36 | B37: Coeficiente de Gini
A38: 37 | B38: Brecha de ingresos
A39: 38 | B39: TNC(E/$)
A40: 39 | B40: TCN(R/$)
A41: 40 | B41: TNC (Yuan/$)
...
